Workbook
Name BattCellCapacity: [1]Datasheets!$D$5
Name BattCellMaxV: [1]Datasheets!$D$6
Name ErrorText: "ERROR"
Name IncompleteText: "BLANK"
Name OKText: "OK"

Sheet 개요
A1: 개요 | J1: Status
A2: - 입력해야할 칸의 배경색은 주황색입니다. - 칸, 섹션 및 워크시트는 전반적인 status를 가집니다. Status칸에 파란색이 표시됩니다. 이미지 또는 도식이 필요한 섹션의 경우 이미지를 지정된 영역에 배치하여야 합니다. 이미지를 고해상도로 붙여넣은 다음 크기를 조정해야 합니다. 검토자가 확대가 필요한 경우 이미지를 확대하기 위함입니다. - datasheet 는 제조사에서 제공하는 link 페이지를 입력하거나 ESF와 함께 제출한 파일 이름을 입력하기 바랍니다. - 팀이 제공된 영역에 적절하게 문서화되지 않았다고 생각하는 사항을 문서화하기위한 추가 의견 섹션이 전체적으로 제공됩니다. 이 항목은 선택 사항이므로 완료할 필요가 없습니다. | J2: 데이터시트 | L2: =데이터시트!B1 -> ERROR
J3: 구동시스템회로 | L3: =구동시스템회로!B1 -> ERROR
J4: 차단회로 | L4: =차단회로!B1 -> ERROR
J5: 안전시스템1 | L5: =안전시스템1!B1 -> ERROR
J6: 안전시스템2 | L6: =안전시스템2!B1 -> ERROR
J7: 축전지1 | L7: =축전지1!B1 -> ERROR
J8: 축전지2 | L8: =축전지2!B1 -> ERROR
J9: 축전지3 | L9: =축전지3!B1 -> ERROR
J10: 축전지4 | L10: =축전지4!B1 -> ERROR
J11: 모터제어기 | L11: =모터제어기!B1 -> ERROR
J12: 기타구성요소 | L12: =기타구성요소!B1 -> ERROR
J14: 팀명
J15: 대학
J16: 지도교수
J17: 팀장
J18: ESO
J19: 연락처 (e-Mail)
J20: 참가 클래스 | L20: =IF(AND(COUNTBLANK(L14:L19)<1,데이터시트!C12="Class A"), "Class A",IF(AND(COUNTBLANK(L14:L19)<1,데이터시트!C12="Class B"), "Class B",IF(COUNTBLANK(L14:L19)>0, "Enter the information above.",IF(COUNTBLANK(데이터시트!C12)>0, "Enter the Class at [데이터시트]","Error")))) -> Enter the information above.
J21: 대회 연도 | L21: 2023
J23: ESF Result | L23: =IF(COUNTIF(L2:L12,"*ERROR*")>0,"FAIL","PASS") -> FAIL

Sheet 데이터시트
A1: Status | B1: {=IF(SUM(COUNTIF(INDIRECT({"데이터시트!$E$2","데이터시트!$I$19","데이터시트!$I$41","데이터시트!$I$56"}),"="&IncompleteText))>0,ErrorText,IF(SUM(COUNTIF(INDIRECT({"데이터시트!$E$2","데이터시트!$I$19","데이터시트!$I$41","데이터시트!$I$56"}),"="&ErrorText)),ErrorText,OKText))} -> ERROR
A2: 시스템개요 | E2: =IF(COUNTBLANK(C3:C12)>0, IncompleteText, OKText) -> BLANK
A3: 구동시스템 최대 전압 | D3: V
A4: 구동시스템 공칭 전압 | D4: V
A5: GLVS 공칭전압 | D5: V
A6: GLVS 최대전압 | D6: V
A7: 축전지박스 개수 | D7: V
A8: 전체 축전지 용량 | D8: V
A9: 모터 유형 | D9: A
A10: 모터 개수 | D10: A
A11: 전체 모터 최대 사용 출력 | D11: kW
A12: 대회 참가 클래스
A13: 추가 언급사항
A15: 도체 제원 | I15: =IF(COUNTIF(I17:I35, "="&IncompleteText), IncompleteText, IF(COUNTIF(I17:I35, "="&ErrorText), ErrorText, OKText)) -> BLANK | J15: Additional Comments
A16: 제조사 | B16: 모델명 | C16: Size 폭 * 두께 [mm2] | D16: Voltage Rating [V] | E16: Ampacity [A] | F16: Max Temp [C] | G16: Datasheet
I17: =IF(COUNTBLANK(A17:G17)=7,IncompleteText,IF(COUNTBLANK(A17:G17)=0,OKText,ErrorText)) -> BLANK
I18: =IF(COUNTBLANK(A18:G18)=7,"",IF(COUNTBLANK(A18:G18)=0,OKText,ErrorText))
I19: =IF(COUNTBLANK(A19:G19)=7,"",IF(COUNTBLANK(A19:G19)=0,OKText,ErrorText))
I20: =IF(COUNTBLANK(A20:G20)=7,"",IF(COUNTBLANK(A20:G20)=0,OKText,ErrorText))
I21: =IF(COUNTBLANK(A21:G21)=7,"",IF(COUNTBLANK(A21:G21)=0,OKText,ErrorText))
I22: =IF(COUNTBLANK(A22:G22)=7,"",IF(COUNTBLANK(A22:G22)=0,OKText,ErrorText))
I23: =IF(COUNTBLANK(A23:G23)=7,"",IF(COUNTBLANK(A23:G23)=0,OKText,ErrorText))
I24: =IF(COUNTBLANK(A24:G24)=7,"",IF(COUNTBLANK(A24:G24)=0,OKText,ErrorText))
I25: =IF(COUNTBLANK(A25:G25)=7,"",IF(COUNTBLANK(A25:G25)=0,OKText,ErrorText))
I26: =IF(COUNTBLANK(A26:G26)=7,"",IF(COUNTBLANK(A26:G26)=0,OKText,ErrorText))
I27: =IF(COUNTBLANK(A27:G27)=7,"",IF(COUNTBLANK(A27:G27)=0,OKText,ErrorText))
I28: =IF(COUNTBLANK(A28:G28)=7,"",IF(COUNTBLANK(A28:G28)=0,OKText,ErrorText))
I29: =IF(COUNTBLANK(A29:G29)=7,"",IF(COUNTBLANK(A29:G29)=0,OKText,ErrorText))
... I35: =IF(COUNTBLANK(A35:G35)=7,"",IF(COUNTBLANK(A35:G35)=0,OKText,ErrorText))
A37: 퓨즈제원 | I37: =IF(COUNTIF(I39:I50, "="&IncompleteText), IncompleteText, IF(COUNTIF(I39:I50, "="&ErrorText), ErrorText, OKText)) -> BLANK | J37: Additional Comments
A38: 제조사 | B38: 모델명 | C38: Voltage Rating [V] | D38: AC/DC | E38: Current Rating [A] | F38: Interrupt Rating [A] | G38: Datasheet
I39: =IF(COUNTBLANK(A39:G39)=7,IncompleteText,IF(COUNTBLANK(A39:G39)=0,OKText,ErrorText)) -> BLANK
I40: =IF(COUNTBLANK(A40:G40)=7,"",IF(COUNTBLANK(A40:G40)=0,OKText,ErrorText))
I41: =IF(COUNTBLANK(A41:G41)=7,"",IF(COUNTBLANK(A41:G41)=0,OKText,ErrorText))
I42: =IF(COUNTBLANK(A42:G42)=7,"",IF(COUNTBLANK(A42:G42)=0,OKText,ErrorText))
I43: =IF(COUNTBLANK(A43:G43)=7,"",IF(COUNTBLANK(A43:G43)=0,OKText,ErrorText))
I44: =IF(COUNTBLANK(A44:G44)=7,"",IF(COUNTBLANK(A44:G44)=0,OKText,ErrorText))
I45: =IF(COUNTBLANK(A45:G45)=7,"",IF(COUNTBLANK(A45:G45)=0,OKText,ErrorText))
I46: =IF(COUNTBLANK(A46:G46)=7,"",IF(COUNTBLANK(A46:G46)=0,OKText,ErrorText))
I47: =IF(COUNTBLANK(A47:G47)=7,"",IF(COUNTBLANK(A47:G47)=0,OKText,ErrorText))
...

Sheet 구동시스템회로
A1: Status | B1: =IF(SUM(COUNTIF(INDIRECT({"구동시스템회로!$I$28","구동시스템회로!$I$35","구동시스템회로!$S$28"}),"="&IncompleteText))>0,IncompleteText,IF(SUM(COUNTIF(INDIRECT({"구동시스템회로!$I$28","구동시스템회로!$I$35","구동시스템회로!$S$28"}),"="&ErrorText)),ErrorText,OKText)) -> ERROR
A2: 구동시스템 회로도 (전력부만 해당) | K2: 퓨징 다이어그램
A23: - 구동시스템의 전체 회로도를 첨부하십시오. - 이 회로도에서는 축전지 박스 외부에 있는 구성요소에 집중하십시오. - 축전지박스는 1단계 인터페이스로 제공하고, 세부사항은 축전지 차트에서 요구됩니다. - 구성요소의 세부사항 몇몇은(ex. AIRs) 이해를 위해 포함되어도 됩니다. | K23: - 퓨징 시스템의 전체 회로도를 첨부하십시오. - 각 퓨즈의 전류, 전압 정격 및 전선 사이즈가 표시되어야 합니다.
A28: 회로도에 다음과 같은 항목을 포함해야 합니다. | I28: =IF(COUNTIF(I29:I33, "="&IncompleteText), IncompleteText, IF(COUNTIF(I29:I33, "="&ErrorText), ErrorText, OKText)) -> ERROR | K28: 회로도에 다음과 같은 항목을 포함해야 합니다. | S28: =IF(COUNTIF(S29:S30, "="&IncompleteText), IncompleteText, IF(COUNTIF(S29:S30, "="&ErrorText), ErrorText, OKText)) -> ERROR
A29: 모터 제어기(1단계 인터페이스, 입력&출력) | H29: FALSE | I29: =IF(ISBLANK(H29),IncompleteText, IF(H29, OKText, ErrorText)) -> ERROR | K29: 전선 사이즈(AWG or mm^2) | R29: FALSE | S29: =IF(ISBLANK(R29),IncompleteText, IF(R29, OKText, ErrorText)) -> ERROR
A30: 모터 제어기(1단계 인터페이스, 입력&출력) | H30: FALSE | I30: =IF(ISBLANK(H30),IncompleteText, IF(H30, OKText, ErrorText)) -> ERROR | K30: 퓨즈 정격(전류, 전압) | R30: FALSE | S30: =IF(ISBLANK(R30),IncompleteText, IF(R30, OKText, ErrorText)) -> ERROR
A31: 충전 인터페이스 및 커넥터 | H31: FALSE | I31: =IF(ISBLANK(H31),IncompleteText, IF(H31, OKText, ErrorText)) -> ERROR
A32: TSMP 및 전류 제한 저항 | H32: FALSE | I32: =IF(ISBLANK(H32),IncompleteText, IF(H32, OKText, ErrorText)) -> ERROR | K32: 추가 언급사항
A33: 인클로저는 점선으로 표시 | H33: FALSE | I33: =IF(ISBLANK(H33),IncompleteText, IF(H33, OKText, ErrorText)) -> ERROR
A35: 다음 항목이 축전지 박스 안에 있지 않을 경우, 반드시 포함해야 합니다. | I35: =IF(COUNTIF(I36:I40, "="&IncompleteText), IncompleteText, IF(COUNTIF(I36:I40, "="&ErrorText), ErrorText, OKText)) -> ERROR
A36: IMD | H36: FALSE | I36: =IF(ISBLANK(H36),IncompleteText, IF(H36, OKText, ErrorText)) -> ERROR
A37: DCDC converter(사용될 경우) | H37: FALSE | I37: =IF(ISBLANK(H37),IncompleteText, IF(H37, OKText, ErrorText)) -> ERROR
A38: 초기충전회로 및 방전회로 | H38: FALSE | I38: =IF(ISBLANK(H38),IncompleteText, IF(H38, OKText, ErrorText)) -> ERROR
A39: 에너지 미터 | H39: FALSE | I39: =IF(ISBLANK(H39),IncompleteText, IF(H39, OKText, ErrorText)) -> ERROR
A40: HVD | H40: FALSE | I40: =IF(ISBLANK(H40),IncompleteText, IF(H40, OKText, ErrorText)) -> ERROR
A42: 추가 언급사항

Sheet 차단회로
A1: Status | B1: {=IF(SUM(COUNTIF(INDIRECT({"차단회로!$F$2","차단회로!$M$3","차단회로!$T$3","차단회로!$I$36"}),"="&IncompleteText))>0,ErrorText,IF(SUM(COUNTIF(INDIRECT({"차단회로!$F$2","차단회로!$M$3","차단회로!$T$3","차단회로!$I$36"}),"="&ErrorText)),ErrorText,OKText))} -> ERROR
A2: IMD(절연 감시 장치) | F2: =IF(COUNTIF(F3:F11, "="&IncompleteText), IncompleteText, IF(COUNTIF(F3:F11, "="&ErrorText), ErrorText, OKText)) -> BLANK
A3: 제조사 / 모델 | F3: =IF(ISBLANK(D3), IncompleteText, OKText) -> BLANK | H3: BSPD 전류 센서 | M3: =IF(COUNTIF(M4:M7, "="&IncompleteText), IncompleteText, IF(COUNTIF(M4:M7, "="&ErrorText), ErrorText, OKText)) -> BLANK | O3: BSPD 설정값 | T3: =IF(COUNTIF(T4:T6, "="&IncompleteText), IncompleteText, IF(COUNTIF(T4:T6, "="&ErrorText), ErrorText, OKText)) -> BLANK
A4: 공급 전압 | E4: VDC | F4: =IF(ISBLANK(D4), IncompleteText, OKText) -> BLANK | H4: 제조사 / 모델 | M4: =IF(ISBLANK(K4), IncompleteText, OKText) -> BLANK | O4: 설정전류 | S4: A | T4: =IF(ISBLANK(R4), IncompleteText, OKText) -> BLANK
A5: 주위 온도 범위 | E5: ℃ | F5: =IF(ISBLANK(D5), IncompleteText, OKText) -> BLANK | H5: 전류 압력 범위 | L5: A | M5: =IF(ISBLANK(K5), IncompleteText, OKText) -> BLANK | O5: 전류 센서 출력 @ 설정 전류 | S5: V | T5: =IF(ISBLANK(R5), IncompleteText, OKText) -> BLANK
A6: 자가-테스트 간격 | E6: V | F6: =IF(ISBLANK(D6), IncompleteText, OKText) -> BLANK | H6: 출력 범위 | L6: V | M6: =IF(ISBLANK(K6), IncompleteText, OKText) -> BLANK | O6: 지연시간 | S6: ms | T6: =IF(ISBLANK(R6), IncompleteText, OKText) -> BLANK
A7: 고전압 범위 | E7: VDC | F7: =IF(ISBLANK(D7), IncompleteText, OKText) -> BLANK | H7: 데이터 시트 | M7: =IF(ISBLANK(K7), IncompleteText, OKText) -> BLANK
A8: 설정 응답값 | E8: kΩ/Volt | F8: =IF(ISBLANK(D8), IncompleteText, OKText) -> BLANK
A9: 최대 동작전류 | E9: mA | F9: =IF(ISBLANK(D9), IncompleteText, OKText) -> BLANK
A10: 설정 응답값의 50%에서 차단되는 대략적인 시간 | E10: s | F10: =IF(ISBLANK(D10), IncompleteText, OKText) -> BLANK
A11: 데이터시트 | F11: =IF(ISBLANK(D11), IncompleteText, OKText) -> BLANK
A13: 차단 회로도 | K13: IMD Falut latching(reset 회로) | U13: BSPD 회로도 | AE13: BMS Fault Latching (reset 회로)
A34: - 차단 회로의 전체 회로도를(full page) 첨부하십시오. | K34: - IMD Fault latching 회로도를 첨부하십시오. 이 회로도에 IMD 표시등도 포함되어야 합니다. | U34: - BSPD회로도를 첨부하십시오. 전류센서 입력, 브레이크 입력, 차단 회로 출력을 명확하게 표기하십시오. - 이 회로도에는 fault latching과 타이밍에 대한 세부사항이 포함되어야 합니다. | AE34: - BMS Fault latching 회로를 설명하고, 회로도를 첨부하십시오. 이 회로도에 BMS 표시등도 포함되어야 합니다. - BMS 재설정 스위치의 위치를 설명하십시오.
A36: 회로도에 다음과 같은 항목을 포함해야 합니다. | I36: =IF(COUNTIF(I37:I47, "="&IncompleteText), IncompleteText, IF(COUNTIF(I37:I47, "="&ErrorText), ErrorText, OKText)) -> ERROR | K36: IMD 위치
A37: 차단 회로의 모든 장치와 스위치(NO, NC 포함) | H37: FALSE | I37: =IF(ISBLANK(H37),IncompleteText, IF(H37, OKText, ErrorText)) -> ERROR | K37: IMD와 IMD 표시등, IMD 재설정 스위치의 위치를 설명하십시오. | U37: BSPD 위치 | AE37: BMS Faults
A38: HVD 및 커넥터와 연동된 안전 인터락 | H38: FALSE | I38: =IF(ISBLANK(H38),IncompleteText, IF(H38, OKText, ErrorText)) -> ERROR | K38: 사진자료가 필요한 경우 '하단'의 추가 언급사항에 표기하십시오. | U38: BSPD 구성요소와 BSPD 재설정 스위치의 위치를 설명하십시오. | AE38: BMS가 차단 회로를 개방시키는 오류/조건에 대해 설명하십시오.
A39: BMS 와 차단 회로의 연결 | H39: FALSE | I39: =IF(ISBLANK(H39),IncompleteText, IF(H39, OKText, ErrorText)) -> ERROR | U39: 사진자료가 필요한 경우 '하단'의 추가 언급사항에 표기하십시오. | AE39: 사진자료가 필요한 경우 '하단'의 추가 언급사항에 표기하십시오.
A40: BSPD와 차단 회로와 연결 | H40: FALSE | I40: =IF(ISBLANK(H40),IncompleteText, IF(H40, OKText, ErrorText)) -> ERROR
A41: IMD와 차단회로의 연결(IMD의 차단 회로 출력 포함, 세부 사항은 다음 섹션에서 제공) | H41: FALSE | I41: =IF(ISBLANK(H41),IncompleteText, IF(H41, OKText, ErrorText)) -> ERROR
A42: 제동장치 미작동 감지 장치 | H42: FALSE | I42: =IF(ISBLANK(H42),IncompleteText, IF(H42, OKText, ErrorText)) -> ERROR
A43: AIR 코일 및 정격 전압 | H43: FALSE | I43: =IF(ISBLANK(H43),IncompleteText, IF(H43, OKText, ErrorText)) -> ERROR
A44: 초기충전회로 | H44: FALSE | I44: =IF(ISBLANK(H44),IncompleteText, IF(H44, OKText, ErrorText)) -> ERROR
A45: 저전압 축전지 | H45: FALSE | I45: =IF(ISBLANK(H45),IncompleteText, IF(H45, OKText, ErrorText)) -> ERROR
A46: 퓨즈 | H46: FALSE | I46: =IF(ISBLANK(H46),IncompleteText, IF(H46, OKText, ErrorText)) -> ERROR | K46: IMD 검증
A47: 전선 사이즈(AWG or mm^2) | H47: FALSE | I47: =IF(ISBLANK(H47),IncompleteText, IF(H47, OKText, ErrorText)) -> ERROR | K47: 대회 중에 IMD의 올바른 작동을 검증하는 방법을 단계를 통해 설명하십시오. | U47: BSPD 검증 | AE47: BMS 검증
K48: 사진자료가 필요한 경우 '하단'의 추가 언급사항에 표기하십시오. | U48: 대회중에 BSPD의 올바른 작동을 검증하는 방법을 단계를 통해 설명하십시오. | AE48: 대회 중에 BMS의 올바른 작동을 검증하는 방법을 단계를 통해 설명하십시오.
A49: 추가 언급사항 | U49: 사진자료가 필요한 경우 '하단'의 추가 언급사항에 표기하십시오. | AE49: 사진자료가 필요한 경우 '하단'의 추가 언급사항에 표기하십시오.
K56: 추가 언급사항
U57: 추가 언급사항 | AE57: 추가 언급사항

Sheet 안전시스템1
A1: Status | B1: {=IF(SUM(COUNTIF(INDIRECT({"안전시스템1!$F$2","안전시스템1!$M$2","안전시스템1!$T$2"}),"="&IncompleteText))>0,ErrorText,IF(SUM(COUNTIF(INDIRECT({"안전시스템1!$F$2","안전시스템1!$M$2","안전시스템1!$T$2"}),"="&ErrorText)),ErrorText,OKText))} -> ERROR
A2: TSAL(고전압 표시등) | F2: =IF(COUNTIF(F3:F9, "="&IncompleteText), IncompleteText, IF(COUNTIF(F3:F9, "="&ErrorText), ErrorText, OKText)) -> BLANK | H2: 측정 포인트 | M2: =IF(COUNTIF(M3:M5, "="&IncompleteText), IncompleteText, IF(COUNTIF(M3:M5, "="&ErrorText), ErrorText, OKText)) -> BLANK | O2: 측정 포인트 보호 저항 | T2: =IF(COUNTIF(T3:T7, "="&IncompleteText), IncompleteText, IF(COUNTIF(T3:T7, "="&ErrorText), ErrorText, OKText)) -> BLANK
A3: 제조사 / 모델 | F3: =IF(ISBLANK(D3), IncompleteText, OKText) -> BLANK | H3: 제조사 / 모델 | M3: =IF(ISBLANK(K3), IncompleteText, OKText) -> BLANK | O3: 제조사 / 모델 | T3: =IF(ISBLANK(R3), IncompleteText, OKText) -> BLANK
A4: 색상 | F4: =IF(ISBLANK(D4), IncompleteText, OKText) -> BLANK | H4: 정격 전압 | L4: V | M4: =IF(ISBLANK(K4), IncompleteText, OKText) -> BLANK | O4: 저항값 | S4: Ω | T4: =IF(ISBLANK(R4), IncompleteText, OKText) -> BLANK
A5: 점멸 주파수 | E5: Hz | F5: =IF(ISBLANK(D5), IncompleteText, OKText) -> BLANK | H5: 데이터 시트 | M5: =IF(ISBLANK(K5), IncompleteText, OKText) -> BLANK | O5: 정격 전압 | S5: V | T5: =IF(ISBLANK(R5), IncompleteText, OKText) -> BLANK
A6: Powered by | F6: =IF(ISBLANK(D6), IncompleteText, OKText) -> BLANK | G6: ex) GLV | O6: 정격 전력 | S6: W | T6: =IF(ISBLANK(R6), IncompleteText, OKText) -> BLANK
A7: Controlled by | F7: =IF(ISBLANK(D7), IncompleteText, OKText) -> BLANK | G7: ex) TS | O7: 데이터 시트 | T7: =IF(ISBLANK(R7), IncompleteText, OKText) -> BLANK
A8: TS Turn On Voltage | E8: V | F8: =IF(ISBLANK(D8), IncompleteText, OKText) -> BLANK
A9: TS Turn Off Voltage | E9: V | F9: =IF(ISBLANK(D9), IncompleteText, OKText) -> BLANK
A11: TSAL 회로도 | K11: 측정 포인트 위치 | U11: 측정 포인트 보호 저항 위치
K12: 측정 포인트의 위치를 설명하십시오. | U12: 측정 포인트 보호 저항의 위치를 설명하십시오.
K13: 사진자료가 필요한 경우 '하단'의 추가 언급사항에 표기하십시오. | U13: 사진자료가 필요한 경우 '하단'의 추가 언급사항에 표기하십시오.
K21: 측정 포인트 보호 | U21: 추가 언급사항
K22: TSMP의 뒷부분이 어떻게 접촉으로부터 보호되는지 설명하십시오.
K23: TSMP의 앞부분이 어떻게 접촉 및 물기로부터 보호되고 전기 기술 검사 중 어떻게 덮개가 제거되는지 설명하십시오.
K24: 사진자료가 필요한 경우 '하단'의 추가 언급사항에 표기하십시오.
K31: 추가 언급사항
A32: - TSAL의 제어 회로를 보여주는 회로도를 첨부하십시오. - 이 회로도에는 HV 전압 감지에서 표시등의 입력까지 모든 구성요소가 포함되어야 합니다. - 팀에서 TS와 GLVS가 동시에 들어간 PCB를 설계한 경우, TS/GLVS 분리에 대해 간격 요구사항이 충족되었음을 보여주는 CAD rendering 또는 사진을 첨부하십시오.
A37: IMD 위치
A38: TSAL의 구성요소의 위치를 설명하십시오.
A39: 사진자료가 필요한 경우 '하단'의 추가 언급사항에 표기하십시오.
A47: 추가 언급사항

Sheet 안전시스템2
A1: Status | B1: {=IF(SUM(COUNTIF(INDIRECT({"안전시스템2!$F$2","안전시스템2!$M$2","안전시스템2!$T$2"}),"="&IncompleteText))>0,ErrorText,IF(SUM(COUNTIF(INDIRECT({"안전시스템2!$F$2","안전시스템2!$M$2","안전시스템2!$T$2"}),"="&ErrorText)),ErrorText,OKText))} -> ERROR
A2: HVD(고전압 분리기) | F2: =IF(COUNTIF(F3:F6, "="&IncompleteText), IncompleteText, IF(COUNTIF(F3:F6, "="&ErrorText), ErrorText, OKText)) -> BLANK | H2: RTDS 장치 및 제어 | M2: =IF(COUNTIF(M3:M6, "="&IncompleteText), IncompleteText, IF(COUNTIF(M3:M6, "="&ErrorText), ErrorText, OKText)) -> BLANK | O2: 방전회로 구성요소 제원 | T2: =IF(COUNTIF(T3:T12, "="&IncompleteText), IncompleteText, IF(COUNTIF(T3:T12, "="&ErrorText), ErrorText, OKText)) -> BLANK
A3: 제조사 / 모델 | F3: =IF(ISBLANK(D3), IncompleteText, OKText) -> BLANK | H3: 제조사 / 모델 | M3: =IF(ISBLANK(K3), IncompleteText, OKText) -> BLANK | O3: 제조사 / 모델 | T3: =IF(ISBLANK(R3), IncompleteText, OKText) -> BLANK
A4: 정격 전류 | E4: A | F4: =IF(ISBLANK(D4), IncompleteText, OKText) -> BLANK | H4: 제어 전압 | L4: V | M4: =IF(ISBLANK(K4), IncompleteText, OKText) -> BLANK | O4: 저항값 | S4: Ω | T4: =IF(ISBLANK(R4), IncompleteText, OKText) -> BLANK
A5: 정격 전압 | E5: V | F5: =IF(ISBLANK(D5), IncompleteText, OKText) -> BLANK | H5: SPL at 2m | L5: dBA | M5: =IF(ISBLANK(K5), IncompleteText, OKText) -> BLANK | O5: 전압 | S5: V | T5: =IF(ISBLANK(R5), IncompleteText, OKText) -> BLANK
A6: 데이터 시트 | F6: =IF(ISBLANK(D6), IncompleteText, OKText) -> BLANK | H6: 데이터 시트 | M6: =IF(ISBLANK(K6), IncompleteText, OKText) -> BLANK | O6: 전력 | S6: W | T6: =IF(ISBLANK(R6), IncompleteText, OKText) -> BLANK
O7: 전력 @ 15sec | S7: W | T7: =IF(ISBLANK(R7), IncompleteText, OKText) -> BLANK
O8: 데이터 시트 | T8: =IF(ISBLANK(R8), IncompleteText, OKText) -> BLANK
O9: 제조사 / 모델 | T9: =IF(ISBLANK(R9), IncompleteText, OKText) -> BLANK
O10: 저항값 | S10: A | T10: =IF(ISBLANK(R10), IncompleteText, OKText) -> BLANK
O11: 전압 | S11: V | T11: =IF(ISBLANK(R11), IncompleteText, OKText) -> BLANK
O12: 데이터 시트 | T12: =IF(ISBLANK(R12), IncompleteText, OKText) -> BLANK
A14: HVD 위치 | K14: 운전 준비 상태 진입 방법 | U14: 방전 회로도
A15: HVD 위치를 설명하십시오. 지면으로부터 HVD 최하단부까지 거리를(cm) 설명하십시오. | K15: 차량을 운전 준비 상태로 진입하는 방법을 단계를 통해 설명하십시오.
A16: 사진자료가 필요한 경우 '하단'의 추가 언급사항에 표기하십시오. | K16: 사진자료가 필요한 경우 '하단'의 추가 언급사항에 표기하십시오.
A24: HVD 연결 | K24: 추가 언급사항
A25: HVD의 전기적 연결 방법과, 이것이 물기와 접촉으로부터 보호되는 방법에 대해 설명하십시오.
A26: 사진자료가 필요한 경우 '하단'의 추가 언급사항에 표기하십시오.
A34: HVD 취급 방법
A35: 대회 중에 HVD를 설치하고 제거하는 데 사용할 방법을 설명하십시오. | U35: 방전회로 위치
A36: 안전한 취급지침을 포함하십시오. | U36: 방전회로의 위치를 설명하십시오.
A37: ex) 차량을 밀면서 설치하지 않는다. | U37: 사진자료가 필요한 경우 '하단'의 추가 언급사항에 표기하십시오.
A38: HVD를 제거한 상태에서 먼지 덮개, 더미 플러그 또는 특수 취급에 관한 세부 사항을 포합하십시오.
A39: 사진자료가 필요한 경우 '하단'의 추가 언급사항에 표기하십시오.
A44: 추가 언급사항
U45: 방전회로 제어
U46: 방전회로가 어떻게 제어되는지 설명하십시오. HV bus capacitance는 몇입니까?
U47: 저전압 범위까지 방전하는데 얼마나 걸리는지 설명하십시오.
U48: 사진자료가 필요한 경우 '하단'의 추가 언급사항에 표기하십시오.
U55: 방전회로 검증
U56: 구동시스템 전압이 저전압 범위로 방전되었음을 검증하는 방법을 단계를 통해 설명하십시오.
U57: 사진자료가 필요한 경우 '하단'의 추가 언급사항에 표기하십시오.
U65: 추가 언급사항

Sheet 축전지1
A1: Status | B1: {=IF(SUM(COUNTIF(INDIRECT({"축전지1!$E$2","축전지1!$Q$2","축전지1!$X$2","축전지1!$I$38","축전지1!$I$45"}),"="&IncompleteText))>0,ErrorText,IF(SUM(COUNTIF(INDIRECT({"축전지1!$E$2","축전지1!$Q$2","축전지1!$X$2","축전지1!$I$38","축전지1!$I$45"}),"="&ErrorText)),ErrorText,OKText))} -> ERROR
A2: Battery Cell | E2: =IF(COUNTBLANK(C3:C14)>0, IncompleteText, OKText) -> BLANK | I2: 세그먼트 데이터(셀 전기적 배열) | Q2: =IF(COUNTIF(Q6:Q15, "="&IncompleteText), IncompleteText, IF(COUNTIF(Q6:Q15, "="&ErrorText), ErrorText, OKText)) -> BLANK | S2: 축전지 세그먼트 커넥터 | X2: =IF(COUNTIF(X3:X6, "="&IncompleteText), IncompleteText, IF(COUNTIF(X3:X6, "="&ErrorText), ErrorText, OKText)) -> BLANK
A3: 제조사 | I3: Connection Order | K3: Parallel then Series | S3: 제조사 / 모델 | X3: =IF(ISBLANK(V3), IncompleteText, OKText) -> BLANK
A4: 모델명 | I4: Segment | J4: Parallel cells | K4: Series cells | L4: Temp Sensors | M4: Max Voltage [V] | O4: Segment Energy [MJ] | S4: 전류 용량 | W4: A | X4: =IF(ISBLANK(V4), IncompleteText, OKText) -> BLANK
A5: 공칭 용량 | D5: Ah | S5: 전압 | W5: V | X5: =IF(ISBLANK(V5), IncompleteText, OKText) -> BLANK
A6: 최대 전압 | D6: V | I6: 1 | M6: =K6*$C$6 -> 0 | O6: =M6*J6*$C$5*0.0036 -> 0 | Q6: =IF(COUNTBLANK(I6:L6) > 0, IncompleteText, IF(OR(M6>120, O6>6), ErrorText, OKText)) -> BLANK | S6: 데이터 시트 | X6: =IF(ISBLANK(V6), IncompleteText, OKText) -> BLANK
A7: 공칭 전압 | D7: V | I7: 2 | M7: =K7*$C$6 -> 0 | O7: =M7*J7*$C$5*0.0036 -> 0 | Q7: =IF(COUNTBLANK(I7:L7)=3,"",IF(COUNTBLANK(I7:L7) > 0, IncompleteText, IF(OR(M7>120, O7>6), ErrorText, OKText)))
A8: 최소 전압 | D8: V | I8: 3 | M8: =K8*$C$6 -> 0 | O8: =M8*J8*$C$5*0.0036 -> 0 | Q8: =IF(COUNTBLANK(I8:L8)=3,"",IF(COUNTBLANK(I8:L8) > 0, IncompleteText, IF(OR(M8>120, O8>6), ErrorText, OKText)))
A9: 최대 출력 전류 | D9: A | I9: 4 | M9: =K9*$C$6 -> 0 | O9: =M9*J9*$C$5*0.0036 -> 0 | Q9: =IF(COUNTBLANK(I9:L9)=3,"",IF(COUNTBLANK(I9:L9) > 0, IncompleteText, IF(OR(M9>120, O9>6), ErrorText, OKText)))
A10: 최대 연속 출력 전류 | D10: A | I10: 5 | M10: =K10*$C$6 -> 0 | O10: =M10*J10*$C$5*0.0036 -> 0 | Q10: =IF(COUNTBLANK(I10:L10)=3,"",IF(COUNTBLANK(I10:L10) > 0, IncompleteText, IF(OR(M10>120, O10>6), ErrorText, OKText)))
A11: 셀 최대온도(방전시) | D11: C | I11: 6 | M11: =K11*$C$6 -> 0 | O11: =M11*J11*$C$5*0.0036 -> 0 | Q11: =IF(COUNTBLANK(I11:L11)=3,"",IF(COUNTBLANK(I11:L11) > 0, IncompleteText, IF(OR(M11>120, O11>6), ErrorText, OKText)))
A12: 셀 최대온도(충전시) | D12: C | I12: 7 | M12: =K12*$C$6 -> 0 | O12: =M12*J12*$C$5*0.0036 -> 0 | Q12: =IF(COUNTBLANK(I12:L12)=3,"",IF(COUNTBLANK(I12:L12) > 0, IncompleteText, IF(OR(M12>120, O12>6), ErrorText, OKText)))
A13: 셀 Chemistry | I13: 8 | M13: =K13*$C$6 -> 0 | O13: =M13*J13*$C$5*0.0036 -> 0 | Q13: =IF(COUNTBLANK(I13:L13)=3,"",IF(COUNTBLANK(I13:L13) > 0, IncompleteText, IF(OR(M13>120, O13>6), ErrorText, OKText)))
A14: Datasheet | I14: 9 | M14: =K14*$C$6 -> 0 | O14: =M14*J14*$C$5*0.0036 -> 0 | Q14: =IF(COUNTBLANK(I14:L14)=3,"",IF(COUNTBLANK(I14:L14) > 0, IncompleteText, IF(OR(M14>120, O14>6), ErrorText, OKText)))
A15: 추가 언급사항 | I15: 10 | M15: =K15*$C$6 -> 0 | O15: =M15*J15*$C$5*0.0036 -> 0 | Q15: =IF(COUNTBLANK(I15:L15)=3,"",IF(COUNTBLANK(I15:L15) > 0, IncompleteText, IF(OR(M15>120, O15>6), ErrorText, OKText)))
A17: 축전지 모형도 | K17: 세그먼트 물리적 분리
K18: 세그먼트가 서로 물리적으로 분리된 방법과, 정비 시 공구로부터 안전하게 보호된 방법에 대해 설명하십시오.
K19: 사진자료가 필요한 경우 '하단'의 추가 언급사항에 표기하십시오.
K27: 축전지 세그먼트 커넥터
K28: 세그먼트 사이에서 세그먼트 커넥터가 어떻게 사용되는지 설명하십시오.
K29: 만약 상용품을 사용하는 경우 데이터시트에 대한 링크를 제공하십시오.
K30: 세그먼트 커넥터의 위치와 구현상태를 보여주기 위한 CAD 렌더링 또는 사진을 제공하십시오.
K37: 축전지 세그먼트 커넥터 풀림 방지 및 구성
A38: 모형도는 다음 항목을 반드시 포함해야 합니다. | I38: =IF(COUNTIF(I39:I45, "="&IncompleteText), IncompleteText, IF(COUNTIF(I39:I45, "="&ErrorText), ErrorText, OKText)) -> ERROR | K38: 의도치 않게 세그먼트 커넥터가 풀리지 않도록 하는 풀림 방지 방법을 설명하십시오.
A39: 축전지 세그먼트 커넥터 | H39: FALSE | I39: =IF(ISBLANK(H39),IncompleteText, IF(H39, OKText, ErrorText)) -> ERROR | K39: 세그먼트 커넥터가 설계된 설정으로만 연결이 가능하도록 구성된 방법을 설명하십시오.
A40: 메인 전류 경로의 전선(사이즈, 차폐 및 단자 등 세부사항 포함) | H40: FALSE | I40: =IF(ISBLANK(H40),IncompleteText, IF(H40, OKText, ErrorText)) -> ERROR | K40: 사진자료가 필요한 경우 '하단'의 추가 언급사항에 표기하십시오.
A41: 셀 연결 방법에 대한 세부 사항 | H41: FALSE | I41: =IF(ISBLANK(H41),IncompleteText, IF(H41, OKText, ErrorText)) -> ERROR
A42: 퓨즈(위치, 정격 전류 및 정격 전압 포함) | H42: FALSE | I42: =IF(ISBLANK(H42),IncompleteText, IF(H42, OKText, ErrorText)) -> ERROR
A43: 커넥터(정격 전류, 정격 전압 포함, 인터락 여부 표시) | H43: FALSE | I43: =IF(ISBLANK(H43),IncompleteText, IF(H43, OKText, ErrorText)) -> ERROR
A45: 다음 항목이 축전지 박스 안에 있지 않을 경우, 반드시 포함해야 합니다. | I45: =IF(COUNTIF(I46:I52, "="&IncompleteText), IncompleteText, IF(COUNTIF(I46:I52, "="&ErrorText), ErrorText, OKText)) -> ERROR
A46: IMD | H46: FALSE | I46: =IF(ISBLANK(H46),IncompleteText, IF(H46, OKText, ErrorText)) -> ERROR
A47: DCDC converter(사용될 경우) | H47: FALSE | I47: =IF(ISBLANK(H47),IncompleteText, IF(H47, OKText, ErrorText)) -> ERROR | K47: 축전지 세그먼트 커넥터 탈부착 과정
A48: 초기충전회로 및 방전회로 | H48: FALSE | I48: =IF(ISBLANK(H48),IncompleteText, IF(H48, OKText, ErrorText)) -> ERROR | K48: HV 보호장구를 착용한 상태에서 세그먼트 커넥터를 탈부착하는 과정을 여러단계로 나누어서 설명하시오.
A49: 에너지 미터 | H49: FALSE | I49: =IF(ISBLANK(H49),IncompleteText, IF(H49, OKText, ErrorText)) -> ERROR | K49: 또한, 착용한 HV 보호장구에 대해서도 설명하시오.
A50: HVD | H50: FALSE | I50: =IF(ISBLANK(H50),IncompleteText, IF(H50, OKText, ErrorText)) -> ERROR
A52: 셀 연결
A53: 셀의 전기적 연결부는 어떻게 구성되었는지 설명하십시오.(용접/볼트/클램프)
A54: 용접의 종류(저항/레이저), 볼트의 종류(풀림 방지 체결방식), 클램프의 소재를 설명하십시오
A55: 버스바가 사용된 경우, 버스바의 단면적 및 전류 용량을 설명하십시오.
A56: 셀 연결에 대한 자세한 사진이나 CAD rendering은 '하단'의 추가 언급사항에 표기하십시오.
...

Sheet 축전지2
A1: Status | B1: {=IF(SUM(COUNTIF(INDIRECT({"축전지2!$F$2","축전지2!$M$2","축전지2!$T$2","축전지2!$AA$2"}),"="&IncompleteText))>0,ErrorText,IF(SUM(COUNTIF(INDIRECT({"축전지2!$F$2","축전지2!$M$2","축전지2!$T$2","축전지2!$AA$2"}),"="&ErrorText)),ErrorText,OKText))} -> ERROR
A2: Precharge Resistor | F2: =IF(COUNTIF(F3:F8, "="&IncompleteText), IncompleteText, IF(COUNTIF(F3:F8, "="&ErrorText), ErrorText, OKText)) -> BLANK | H2: Precharge Relay | M2: =IF(COUNTIF(M3:M6, "="&IncompleteText), IncompleteText, IF(COUNTIF(M3:M6, "="&ErrorText), ErrorText, OKText)) -> BLANK | O2: BMS 온도 센서 | T2: =IF(COUNTIF(T3:T7, "="&IncompleteText), IncompleteText, IF(COUNTIF(T3:T7, "="&ErrorText), ErrorText, OKText)) -> BLANK | V2: BMS 차단 설정 | AA2: =IF(COUNTIF(AA3:AA6, "="&IncompleteText), IncompleteText, IF(COUNTIF(AA3:AA6, "="&ErrorText), ErrorText, OKText)) -> BLANK
A3: 제조사 / 모델 | F3: =IF(ISBLANK(D3), IncompleteText, OKText) -> BLANK | H3: 제조사 / 모델 | M3: =IF(ISBLANK(K3), IncompleteText, OKText) -> BLANK | O3: 제조사 / 모델 | T3: =IF(ISBLANK(R3), IncompleteText, OKText) -> BLANK | V3: 최대 전압 | Z3: V | AA3: =IF(ISBLANK(Y3), IncompleteText, OKText) -> BLANK
A4: 저항값 | E4: Ω | F4: =IF(ISBLANK(D4), IncompleteText, OKText) -> BLANK | H4: 접점 정격 전류 | L4: A | M4: =IF(ISBLANK(K4), IncompleteText, OKText) -> BLANK | O4: 센서의 정확도 | S4: ℃ | T4: =IF(ISBLANK(R4), IncompleteText, OKText) -> BLANK | V4: 최소 전압 | Z4: V | AA4: =IF(ISBLANK(Y4), IncompleteText, OKText) -> BLANK
A5: 전압 | E5: V | F5: =IF(ISBLANK(D5), IncompleteText, OKText) -> BLANK | H5: 접점 정격 전압 | L5: V | M5: =IF(ISBLANK(K5), IncompleteText, OKText) -> BLANK | O5: 데이터시트 | T5: =IF(ISBLANK(R5), IncompleteText, OKText) -> BLANK | V5: 최대 온도 | Z5: ℃ | AA5: =IF(ISBLANK(Y5), IncompleteText, OKText) -> BLANK
A6: 전력 | E6: W | F6: =IF(ISBLANK(D6), IncompleteText, OKText) -> BLANK | H6: 데이터 시트 | M6: =IF(ISBLANK(K6), IncompleteText, OKText) -> BLANK | O6: 센서의 개수 | S6: EA | T6: =IF(ISBLANK(R6), IncompleteText, OKText) -> BLANK | V6: 최소온도 | Z6: ℃ | AA6: =IF(ISBLANK(Y6), IncompleteText, OKText) -> BLANK
A7: 전력 @ 15sec | E7: W | F7: =IF(ISBLANK(D7), IncompleteText, OKText) -> BLANK | O7: 감지되는 셀 개수(%) | S7: % | T7: =IF(ISBLANK(R7), IncompleteText, OKText) -> BLANK
A8: 데이터 시트 | F8: =IF(ISBLANK(D8), IncompleteText, OKText) -> BLANK
A10: 초기 충전 회로도 | K10: BMS 제원
K11: 선정한 BMS에 대해 간략히 설명하십시오.
K12: GLVS와 TS 연결 사이에 전기적 격리는 어떻게 이루어져 있는지 설명하십시오,
K13: 팀에서 설계한 경우 TS/GLVS 분리에 대해 PCB 간격 요구사항이 충족되었음을 보여주는
K14: CAD rendering 또는 사진을 첨부하십시오.
K20: 온도 센서 위치
K21: 온도센서 요구 사항을 어떻게 구성했는지 (회로 구성),
K22: 직접 접촉 요구 사항을 어떻게 만족하는지(위치) 설명하십시오.
K23: 온도센서를 보여주는 CAD rendering 또는 사진을 첨부하십시오.
K24: 사진자료가 필요한 경우 '하단'의 추가 언급사항에 표기하십시오.
K30: BMS 전압 감지 전선
A31: 초기충전회로 위치 | K31: 전압 감지 전선이 셀에 어떻게 연결되어 있는지 설명하십시오.
A32: 초기충전회로의 위치에 대해 설명하십시오. | K32: 사진자료가 필요한 경우 '하단'의 추가 언급사항에 표기하십시오.
A33: 사진자료가 필요한 경우 '하단'의 추가 언급사항에 표기하십시오.
K40: BMS 전압 감지선 과전류 보호
A41: 초기충전회로 제어 | K41: 전압 감지선이 과전류로 보호되는 방식 및 위치에 대해 설명하십시오.(퓨즈)
A42: 초기충전이 어떻게 제어되는지 설명하십시오. | K42: 퓨즈의 허용전류와 크기를 설명하십시오.
A43: HV bus capacitance는 몇입니까? 초기충전을 하는데 시간이 얼마나 걸립니까? | K43: 사진자료가 필요한 경우 '하단'의 추가 언급사항에 표기하십시오.
A44: 시스템은 초기충전을 어떻게 종료합니까?
A45: 사진자료가 필요한 경우 '하단'의 추가 언급사항에 표기하십시오.
K50: BMS 위치
A51: 추가 언급사항 | K51: BMS의 위치를 보여주는 CAD rendering이나 사진을 첨부하십시오.
K60: 추가 언급사항

Sheet 축전지3
A1: Status | B1: {=IF(SUM(COUNTIF(INDIRECT({"축전지3!$F$2","축전지3!$M$2"}),"="&IncompleteText))>0,ErrorText,IF(SUM(COUNTIF(INDIRECT({"축전지3!$F$2","축전지3!$M$2"}),"="&ErrorText)),ErrorText,OKText))} -> ERROR
A2: HV relay(AIRs) | F2: =IF(COUNTIF(F3:F6, "="&IncompleteText), IncompleteText, IF(COUNTIF(F3:F6, "="&ErrorText), ErrorText, OKText)) -> BLANK | H2: 충전기 | M2: =IF(COUNTIF(M3:M9, "="&IncompleteText), IncompleteText, IF(COUNTIF(M3:M9, "="&ErrorText), ErrorText, OKText)) -> BLANK
A3: 제조사 / 모델 | F3: =IF(ISBLANK(D3), IncompleteText, OKText) -> BLANK | H3: 제조사 / 모델 | M3: =IF(ISBLANK(K3), IncompleteText, OKText) -> BLANK
A4: 접점 전류 | E4: A | F4: =IF(ISBLANK(D4), IncompleteText, OKText) -> BLANK | H4: 출력 전력 | L4: kW | M4: =IF(ISBLANK(K4), IncompleteText, OKText) -> BLANK
A5: 접점 전압 | E5: V | F5: =IF(ISBLANK(D5), IncompleteText, OKText) -> BLANK | H5: 출력 전압 | L5: V | M5: =IF(ISBLANK(K5), IncompleteText, OKText) -> BLANK
A6: 데이터 시트 | F6: =IF(ISBLANK(D6), IncompleteText, OKText) -> BLANK | H6: 출력 전류 | L6: A | M6: =IF(ISBLANK(K6), IncompleteText, OKText) -> BLANK
H7: 입력 전압 | L7: V | M7: =IF(ISBLANK(K7), IncompleteText, OKText) -> BLANK
H8: 입력 전류 | L8: A | M8: =IF(ISBLANK(K8), IncompleteText, OKText) -> BLANK
H9: 데이터시트 | M9: =IF(ISBLANK(K9), IncompleteText, OKText) -> BLANK
A11: Accumulator Voltage Indicator(축전지 전압 표시장치) 회로도 | K11: 축전지 박스 일반사항 | U11: 충전 차단 회로도
K12: 축전지 박스의 구조를 설명하십시오. | U12: 이 회로도에는 요구되는 모든 구성요소가 포함되어야 합니다.
K13: 박스가 전도체인 경우, 세그먼트 사이와 박스 사이의 절연층에 대해 설명하십시오.
K14: 덮개와 같은 제거 가능한 부분들에 대해 설명하십시오.
K15: 사진자료가 필요한 경우 '하단'의 추가 언급사항에 표기하십시오.
K21: AIR 및 Fuse 분리
A32: Accumulator Voltage Indicator(축전지 전압 표시장치) 회로도 | U32: 층전 시 TS연결 회로도
A33: 회로의 주요 구성 요소의 데이터시트 링크를 첨부하십시오. | U33: 충전 시 TS 연결 회로도를 첨부하고 에너지 경로와 충전 제어/중단 방법을 표시하여 주십시오.
A37: 추가 언급사항
K38: 퓨즈와 AIR이 셀 및 세그먼트오 ㅏ어떻게 분리되는지 설명하고 CAD rendering 또는 사진을
K39: 첨부하십시오.
K42: 추가 언급사항
U53: 충전 취급 방법
U54: 충전기 연결 방법 및 분리 방법을 포함한, 안전한 충전 동작을 단계를 통해 설명하십시오.
U55: 사진자료가 필요한 경우 '하단'의 추가 언급사항에 표기하십시오.
U63: 추가 언급사항

Sheet 축전지4
A1: Status | B1: {=IF(SUM(COUNTIF(INDIRECT({"축전지4!$F$2","축전지4!$M$2","축전지4!$T$2","축전지4!$T$5"}),"="&IncompleteText))>0,ErrorText,IF(SUM(COUNTIF(INDIRECT({"축전지4!$F$2","축전지4!$M$2","축전지4!$T$2","축전지4!$T$5"}),"="&ErrorText)),ErrorText,OKText))} -> ERROR
A2: 축전지 박스 소재 및 두께 | F2: =IF(COUNTIF(F3:F8, "="&IncompleteText), IncompleteText, IF(COUNTIF(F3:F8, "="&ErrorText), ErrorText, OKText)) -> BLANK | H2: 축전지박스 체결 방법(64조 7항) | M2: =IF(COUNTIF(M3:M8, "="&IncompleteText), IncompleteText, IF(COUNTIF(M3:M8, "="&ErrorText), ErrorText, OKText)) -> BLANK | O2: 축전지박스 가속도 안전성 (64조 10항) | T2: =IF(COUNTIF(T3:T4, "="&IncompleteText), IncompleteText, IF(COUNTIF(T3:T4, "="&ErrorText), ErrorText, OKText)) -> BLANK | V2: 축전지 박스 부착지점 및 가속도 안전성 분석의 경우 분석 방법, 물성조건, 하중조건, 경계조건, 해석결과에 대한 충분한 설명을 작성하십시오. 또한 결과에 대한 분석을 근거에 기반한 공학적판단에 집중하여 진행하십시오. (필요시 칸을 아래방향으로 추가하여 작성하십시오.)
A3: 바닥 소재 및 두께(mm) | F3: =IF(OR(ISBLANK(D3), ISBLANK(E3)), IncompleteText, OKText) -> BLANK | H3: 축전지 박스 - 샤시 체결 방법 | M3: =IF(ISBLANK(K3), IncompleteText, OKText) -> BLANK | O3: 각 세그먼트별 평균 질량 | S3: kg | T3: =IF(ISBLANK(R3), IncompleteText, OKText) -> BLANK
A4: 외벽 소재 및 두께(mm) | F4: =IF(OR(ISBLANK(D4), ISBLANK(E4)), IncompleteText, OKText) -> BLANK | H4: 바닥과 벽 / 벽과 벽 사이 체결법 (용접 or 패스너) | M4: =IF(ISBLANK(K4), IncompleteText, OKText) -> BLANK | O4: 가속도 안전성 판단 분석방법 | T4: =IF(ISBLANK(R4), IncompleteText, OKText) -> BLANK
A5: 커버(뚜껑) 소재 및 두께(mm) | F5: =IF(OR(ISBLANK(D5), ISBLANK(E5)), IncompleteText, OKText) -> BLANK | O5: 축전지박스 구멍 | T5: =IF(COUNTIF(T6:T7, "="&IncompleteText), IncompleteText, IF(COUNTIF(T6:T7, "="&ErrorText), ErrorText, OKText)) -> BLANK
A6: 내벽 소재 및 두께(mm) | F6: =IF(OR(ISBLANK(D6), ISBLANK(E6)), IncompleteText, OKText) -> BLANK | H6: (패스너사용시) 패스너 최소 직경 | L6: mm | M6: =IF(ISBLANK(K6), IncompleteText, OKText) -> BLANK | O6: 최소 구멍 면적 | S6: ㎟ | T6: =IF(ISBLANK(R6),IncompleteText,IF(R6<PI()*(5^2),OKText)) -> BLANK
A7: 세그먼트 방화벽 소재 및 두께 | F7: =IF(OR(ISBLANK(D7), ISBLANK(E7)), IncompleteText, OKText) -> BLANK | H7: (패스너사용시) 패스너 중심 최소거리 | L7: mm | M7: =IF(ISBLANK(K7), IncompleteText, OKText) -> BLANK | O7: 흡습 혹은 투습 방지 방식 | T7: =IF(ISBLANK(R7), IncompleteText, OKText) -> BLANK
A8: 제거 가능한 수평한 내벽 사용여부 | F8: =IF(OR(ISBLANK(D8)), IncompleteText, OKText) -> BLANK | H8: 부착지점 강도 판단 분석방법 | M8: =IF(ISBLANK(K8), IncompleteText, OKText) -> BLANK
A11: 축전지 박스의 차량 내 위치 | K11: 축전지 박스 고정점 및 기계적연결/마운트 | U11: 축전지 박스 가속도 안전성 해석 (좌/우,상/하,앞/뒤)
A12: 축전지 박스의 차량 내 위치를 알 수 있게끔 도면을 첨부하십시오. | K12: 사용한 방법(코너고정 or 하중기반)에 따라 고정점의 개수 및 위치에 대해 설명 및 도면을 첨부하십시오. | U12: 축전지 박스 가속도 안전성을 판단하기 위해 선택한 방법에 대한 설명과 적합한 사진을 첨부하십시오 (해석 - 해석모델 / 실험 - 실험개요사진 / 계산 - 계산수식)
U28: 축전지박스에 사용된 모든 물성정보에 대한 사진을 첨부하십시오 (밀도, 영률, 푸아송비, 허용응력(인장강도or항복강도))
K31: 사용한 방법(코너고정 or 하중기반)에 따라 기계적 연결 혹은 마운트에 대해 설명 및 도면을 첨부하십시오.
A32: 최소 면적 구멍의 위치
A33: 축전지 박스의 차량 내 위치를 알 수 있게끔 도면을 첨부하십시오.
U44: 축전지 박스 가속도 안전성 분석을 위한 하중조건에 대한 설명과 사진을 첨부하십시오.
K52: 축전지 박스 부착지점 강도 분석
A53: 흡습 혹은 투습 방지 방식 | K53: 축전지박스 부착지점의 강도를 판단하기 위해 선택한 방법에 대한 설명과 적합한 사진을 첨부하십시오 (해석 - 해석모델 / 실험 - 실험개요사진 / 계산 - 계산수식)
A54: 흡습 혹은 투습을 방지하기 위해 사용한 방식에 대한 사진 혹은 도면을 첨부하십시오. (필터 사진 혹은 덕트 도면, 위치 및 형상) 덕트의 경우 드라이버 위치와 덕트 구멍이 바라보는 방향을 확인할 수 있는 사진을 첨부하십시오.
U60: 축전지 박스 가속도 안전성 분석을 위한 경계조건에 대한 설명과 사진을 첨부하십시오.
K69: 부착지점에 사용된 물성정보 사진을 첨부하십시오. (밀도, 영률, 푸아송비, 허용응력(인장강도or항복강도)) 단위에 유의
A74: 세그먼트 방화벽 위치
A75: 세그먼트 방화벽의 위치에 대한 설명과 도면을 첨부하십시오.
U76: 축전지 박스 가속도 안전성 분석에 대한 결과를 설명하고 사진을 첨부하십시오. (응력, 안전계수 등에 대한 결과)
K85: 부착지점 강도 분석을 위한 하중조건에 대한 설명과 사진을 첨부하십시오. (하중 부여 방식 및 위치, 크기 및 방향)
U92: 물성치와 안전계수 등에 근거한 공학적 판단으로 축전지 박스의 가속도 조건 하에서 안전성에 대해 설명하십시오.
A95: 추가 언급사항
K101: 부착지점 강도 분석을 위한 경계조건에 대한 설명과 사진을 첨부하십시오. (경계조건 방식 및 위치)
U104: 추가 언급사항
K117: 부착지점 강도 분석에 대한 결과를 설명하고 사진을 첨부하십시오. (응력, 안전계수 등에 대한 결과)
K133: 물성치와 안전계수 등에 근거한 공학적 판단으로 부착지점의 안전성에 대해 설명하십시오.
K145: 추가 언급사항

Sheet 모터제어기
A1: Status | B1: {=IF(SUM(COUNTIF(INDIRECT({"모터제어기!$R$2"}),"="&IncompleteText))>0,ErrorText,IF(SUM(COUNTIF(INDIRECT({"모터제어기!$R$2"}),"="&ErrorText)),ErrorText,OKText))} -> ERROR
A2: 제어 구조 | K2: 신호 경로 | R2: =IF(COUNTIF(R6:R11, "="&IncompleteText), IncompleteText, IF(COUNTIF(R6:R11, "="&ErrorText), ErrorText, OKText)) -> BLANK
A3: APPS에서 모터 제어기로의 토크 신호 경로를 보여주는 그림을 첨부하십시오.
K4: Source Device | M4: Destination Device | O4: Communication | Q4: Other | S4: Additional Comments
R6: =IF(COUNTBLANK(M6:O6)>1, IncompleteText, OKText) -> BLANK
R7: =IF(ISBLANK(M7), "", IF(ISBLANK(O7), IncompleteText, OKText))
R8: =IF(ISBLANK(M8), "", IF(ISBLANK(O8), IncompleteText, OKText))
R9: =IF(ISBLANK(M9), "", IF(ISBLANK(O9), IncompleteText, OKText))
R10: =IF(ISBLANK(M10), "", IF(ISBLANK(O10), IncompleteText, OKText))
R11: =IF(ISBLANK(M11), "", IF(ISBLANK(O11), IncompleteText, OKText))
A23: 추가 언급사항

Sheet 기타구성요소
A1: Status | B1: {=IF(SUM(COUNTIF(INDIRECT({"기타구성요소!$F$2"}),"="&IncompleteText))>0,ErrorText,IF(SUM(COUNTIF(INDIRECT({"기타구성요소!$F$2"}),"="&ErrorText)),ErrorText,OKText))} -> ERROR
A2: 방화벽 | F2: =IF(COUNTIF(F3:F7, "="&IncompleteText), IncompleteText, IF(COUNTIF(F3:F7, "="&ErrorText), ErrorText, OKText)) -> BLANK
A3: 알루미늄 층 두께 | E3: mm | F3: =IF(ISBLANK(D3), IncompleteText, OKText) -> BLANK
A4: 절연 층 두께 | E4: mm | F4: =IF(ISBLANK(D4), IncompleteText, OKText) -> BLANK
A5: 절연 재료 제조사 / 모델 | F5: =IF(ISBLANK(D5), IncompleteText, OKText) -> BLANK
A6: 절연 재료 데이터 시트 | F6: =IF(ISBLANK(D6), IncompleteText, OKText) -> BLANK
A7: 절연 층 측면 | F7: =IF(ISBLANK(D7), IncompleteText, OKText) -> BLANK
A9: 에너지 미터 위치 | K9: 복합소재 접지
A10: 에너지 미터의 위치를 보여주는 CAD rendering 또는 사진을 첨부하십시오. | K10: 적절한 접지 수준을 만족하기 위해 복합소재를 접지하는 방법을 설명하십시오.
K11: 사진자료가 필요한 경우 '하단'의 추가 언급사항에 표기하십시오.
K19: 추가 언급사항
A30: 추가 언급사항

Sheet 추가구성요소
A1: 추가구성요소
A2: ESF에 적합하다고 생각되는 팀의 독특한 설계에 대해 설명하려면 섹션을 추가하십시오. (ex. DCDC converter, 팀에서 설계한 모터 제어기 혹은 충전기 등) 현재 차트는 자유양식입니다.
